Workbook

Sheet 01_ΚΑΤΑΧΩΡΙΣΗ
A1: ΠΑΡΑΡΤΗΜΑ 3 – EXCEL ΣΧΟΛΕΙΟΥ – ΔΕΛΤΙΑ ΥΓΕΙΑΣ 2026–2027
A2: Συμπληρώστε μόνο τα κίτρινα κελιά. Επιλέξτε πρώτα Επαρχία / Περιφέρεια και μετά Σχολείο.
A3: Επαρχία / Περιφέρεια
A4: Σχολείο | F4: Κωδικός Σχολείου | G4: =IF(OR(B3="",B4=""),"",IFERROR(IF(INDEX(ΛΙΣΤΕΣ!$A$2:$A$73,MATCH(B4,ΛΙΣΤΕΣ!$B$2:$B$73,0))=B3,INDEX(ΛΙΣΤΕΣ!$C$2:$C$73,MATCH(B4,ΛΙΣΤΕΣ!$B$2:$B$73,0)),""),""))
A5: Α/Α Παρτίδας | B5: 1 | C5: Κωδικός Παρτίδας | D5: =IF(OR(G4="",B5=""),"",G4&"-2627-"&IF(B5<10,"0"&B5,B5)) | F5: Υπεύθυνος/η Σχολείου
A6: Τηλέφωνο | D6: Ημ/νία προς ΚΟΑ | F6: Tracking προς ΚΟΑ
D7: Ημ/νία προς ΥΠΑΝ | F7: Tracking προς ΥΠΑΝ
A8: Ανά μαθητή/μαθήτρια: συμπληρώστε το ονοματεπώνυμο, επιλέξτε ΝΑΙ όταν παραληφθεί ο αντίστοιχος φάκελος και, εφόσον υπάρχει οικονομική υποβολή, καταχωρίστε την πραγματική δαπάνη βάσει της σχετικής απόδειξης.
A10: Α/Α | B10: Κωδικός Υπόθεσης | C10: Ονοματεπώνυμο μαθητή/μαθήτριας | D10: Ιατρικός φάκελος | E10: Οικονομικός φάκελος + Δήλωση | F10: Αιτούμενο Ποσό Επιστροφής (€) – έως €50 | G10: Έλεγχος ΚΟΑ | H10: Έλεγχος ΥΠΑΝ
A11: =IF(C11="","",ROW()-10) | B11: =IF(C11="","",IF($D$5="","",$D$5&"-"&TEXT(A11,"000"))) | G11: =IF(C11="","",IF(D11="ΝΑΙ","ΕΤΟΙΜΟ","ΕΛΕΓΧΟΣ")) | H11: =IF(C11="","",IF(D11<>"ΝΑΙ","ΕΛΕΓΧΟΣ",IF(E11="ΝΑΙ",IF(F11>0,"ΕΤΟΙΜΟ","ΕΛΕΓΧΟΣ"),"ΕΤΟΙΜΟ")))
A12: =IF(C12="","",ROW()-10) | B12: =IF(C12="","",IF($D$5="","",$D$5&"-"&TEXT(A12,"000"))) | G12: =IF(C12="","",IF(D12="ΝΑΙ","ΕΤΟΙΜΟ","ΕΛΕΓΧΟΣ")) | H12: =IF(C12="","",IF(D12<>"ΝΑΙ","ΕΛΕΓΧΟΣ",IF(E12="ΝΑΙ",IF(F12>0,"ΕΤΟΙΜΟ","ΕΛΕΓΧΟΣ"),"ΕΤΟΙΜΟ")))
A13: =IF(C13="","",ROW()-10) | B13: =IF(C13="","",IF($D$5="","",$D$5&"-"&TEXT(A13,"000"))) | G13: =IF(C13="","",IF(D13="ΝΑΙ","ΕΤΟΙΜΟ","ΕΛΕΓΧΟΣ")) | H13: =IF(C13="","",IF(D13<>"ΝΑΙ","ΕΛΕΓΧΟΣ",IF(E13="ΝΑΙ",IF(F13>0,"ΕΤΟΙΜΟ","ΕΛΕΓΧΟΣ"),"ΕΤΟΙΜΟ")))
A14: =IF(C14="","",ROW()-10) | B14: =IF(C14="","",IF($D$5="","",$D$5&"-"&TEXT(A14,"000"))) | G14: =IF(C14="","",IF(D14="ΝΑΙ","ΕΤΟΙΜΟ","ΕΛΕΓΧΟΣ")) | H14: =IF(C14="","",IF(D14<>"ΝΑΙ","ΕΛΕΓΧΟΣ",IF(E14="ΝΑΙ",IF(F14>0,"ΕΤΟΙΜΟ","ΕΛΕΓΧΟΣ"),"ΕΤΟΙΜΟ")))
A15: =IF(C15="","",ROW()-10) | B15: =IF(C15="","",IF($D$5="","",$D$5&"-"&TEXT(A15,"000"))) | G15: =IF(C15="","",IF(D15="ΝΑΙ","ΕΤΟΙΜΟ","ΕΛΕΓΧΟΣ")) | H15: =IF(C15="","",IF(D15<>"ΝΑΙ","ΕΛΕΓΧΟΣ",IF(E15="ΝΑΙ",IF(F15>0,"ΕΤΟΙΜΟ","ΕΛΕΓΧΟΣ"),"ΕΤΟΙΜΟ")))
A16: =IF(C16="","",ROW()-10) | B16: =IF(C16="","",IF($D$5="","",$D$5&"-"&TEXT(A16,"000"))) | G16: =IF(C16="","",IF(D16="ΝΑΙ","ΕΤΟΙΜΟ","ΕΛΕΓΧΟΣ")) | H16: =IF(C16="","",IF(D16<>"ΝΑΙ","ΕΛΕΓΧΟΣ",IF(E16="ΝΑΙ",IF(F16>0,"ΕΤΟΙΜΟ","ΕΛΕΓΧΟΣ"),"ΕΤΟΙΜΟ")))
A17: =IF(C17="","",ROW()-10) | B17: =IF(C17="","",IF($D$5="","",$D$5&"-"&TEXT(A17,"000"))) | G17: =IF(C17="","",IF(D17="ΝΑΙ","ΕΤΟΙΜΟ","ΕΛΕΓΧΟΣ")) | H17: =IF(C17="","",IF(D17<>"ΝΑΙ","ΕΛΕΓΧΟΣ",IF(E17="ΝΑΙ",IF(F17>0,"ΕΤΟΙΜΟ","ΕΛΕΓΧΟΣ"),"ΕΤΟΙΜΟ")))
A18: =IF(C18="","",ROW()-10) | B18: =IF(C18="","",IF($D$5="","",$D$5&"-"&TEXT(A18,"000"))) | G18: =IF(C18="","",IF(D18="ΝΑΙ","ΕΤΟΙΜΟ","ΕΛΕΓΧΟΣ")) | H18: =IF(C18="","",IF(D18<>"ΝΑΙ","ΕΛΕΓΧΟΣ",IF(E18="ΝΑΙ",IF(F18>0,"ΕΤΟΙΜΟ","ΕΛΕΓΧΟΣ"),"ΕΤΟΙΜΟ")))
A19: =IF(C19="","",ROW()-10) | B19: =IF(C19="","",IF($D$5="","",$D$5&"-"&TEXT(A19,"000"))) | G19: =IF(C19="","",IF(D19="ΝΑΙ","ΕΤΟΙΜΟ","ΕΛΕΓΧΟΣ")) | H19: =IF(C19="","",IF(D19<>"ΝΑΙ","ΕΛΕΓΧΟΣ",IF(E19="ΝΑΙ",IF(F19>0,"ΕΤΟΙΜΟ","ΕΛΕΓΧΟΣ"),"ΕΤΟΙΜΟ")))
A20: =IF(C20="","",ROW()-10) | B20: =IF(C20="","",IF($D$5="","",$D$5&"-"&TEXT(A20,"000"))) | G20: =IF(C20="","",IF(D20="ΝΑΙ","ΕΤΟΙΜΟ","ΕΛΕΓΧΟΣ")) | H20: =IF(C20="","",IF(D20<>"ΝΑΙ","ΕΛΕΓΧΟΣ",IF(E20="ΝΑΙ",IF(F20>0,"ΕΤΟΙΜΟ","ΕΛΕΓΧΟΣ"),"ΕΤΟΙΜΟ")))
A21: =IF(C21="","",ROW()-10) | B21: =IF(C21="","",IF($D$5="","",$D$5&"-"&TEXT(A21,"000"))) | G21: =IF(C21="","",IF(D21="ΝΑΙ","ΕΤΟΙΜΟ","ΕΛΕΓΧΟΣ")) | H21: =IF(C21="","",IF(D21<>"ΝΑΙ","ΕΛΕΓΧΟΣ",IF(E21="ΝΑΙ",IF(F21>0,"ΕΤΟΙΜΟ","ΕΛΕΓΧΟΣ"),"ΕΤΟΙΜΟ")))
A22: =IF(C22="","",ROW()-10) | B22: =IF(C22="","",IF($D$5="","",$D$5&"-"&TEXT(A22,"000"))) | G22: =IF(C22="","",IF(D22="ΝΑΙ","ΕΤΟΙΜΟ","ΕΛΕΓΧΟΣ")) | H22: =IF(C22="","",IF(D22<>"ΝΑΙ","ΕΛΕΓΧΟΣ",IF(E22="ΝΑΙ",IF(F22>0,"ΕΤΟΙΜΟ","ΕΛΕΓΧΟΣ"),"ΕΤΟΙΜΟ")))
... A110: =IF(C110="","",ROW()-10) | B110: =IF(C110="","",IF($D$5="","",$D$5&"-"&TEXT(A110,"000"))) | G110: =IF(C110="","",IF(D110="ΝΑΙ","ΕΤΟΙΜΟ","ΕΛΕΓΧΟΣ")) | H110: =IF(C110="","",IF(D110<>"ΝΑΙ","ΕΛΕΓΧΟΣ",IF(E110="ΝΑΙ",IF(F110>0,"ΕΤΟΙΜΟ","ΕΛΕΓΧΟΣ"),"ΕΤΟΙΜΟ")))

Sheet 02_ΠΡΟΣ_ΚΟΑ
A1: ΚΑΤΑΣΤΑΣΗ ΠΡΟΣ ΚΟΑ – ΔΕΛΤΙΑ ΥΓΕΙΑΣ 2026–2027
A2: Αυτό το Αρχείο διατηρείται στο σχολείο και δεν αποστέλλεται.
A3: Σχολείο | B3: =IF('01_ΚΑΤΑΧΩΡΙΣΗ'!B4="","",'01_ΚΑΤΑΧΩΡΙΣΗ'!B4) | C3: Κωδικός Παρτίδας | D3: =IF('01_ΚΑΤΑΧΩΡΙΣΗ'!D5="","",'01_ΚΑΤΑΧΩΡΙΣΗ'!D5)
A4: Υπεύθυνος/η | B4: =IF('01_ΚΑΤΑΧΩΡΙΣΗ'!G5="","",'01_ΚΑΤΑΧΩΡΙΣΗ'!G5) | C4: Τηλέφωνο | D4: =IF('01_ΚΑΤΑΧΩΡΙΣΗ'!B6="","",'01_ΚΑΤΑΧΩΡΙΣΗ'!B6)
A5: Ημερομηνία αποστολής | B5: =IF('01_ΚΑΤΑΧΩΡΙΣΗ'!E6="","",'01_ΚΑΤΑΧΩΡΙΣΗ'!E6) | C5: Tracking | D5: =IF('01_ΚΑΤΑΧΩΡΙΣΗ'!G6="","",'01_ΚΑΤΑΧΩΡΙΣΗ'!G6)
A6: Σύνολο ιατρικών φακέλων | B6: =IF('01_ΚΑΤΑΧΩΡΙΣΗ'!B4="","",COUNTIFS('01_ΚΑΤΑΧΩΡΙΣΗ'!D11:D110,"ΝΑΙ",'01_ΚΑΤΑΧΩΡΙΣΗ'!C11:C110,"<>"))
A8: Α/Α | B8: Κωδικός Υπόθεσης | C8: Ονοματεπώνυμο | D8: Αρ. Ταυτότητας / Διαβατηρίου / ARC (συμπληρώνεται από ΚΟΑ) | F8: ΟΔΗΓΙΕΣ ΣΥΜΠΛΗΡΩΣΗΣ 02_ΠΡΟΣ_ΚΟΑ.
A9: =IF(AND('01_ΚΑΤΑΧΩΡΙΣΗ'!D11="ΝΑΙ",'01_ΚΑΤΑΧΩΡΙΣΗ'!C11<>""),'01_ΚΑΤΑΧΩΡΙΣΗ'!A11,"") | B9: =IF(AND('01_ΚΑΤΑΧΩΡΙΣΗ'!D11="ΝΑΙ",'01_ΚΑΤΑΧΩΡΙΣΗ'!C11<>""),'01_ΚΑΤΑΧΩΡΙΣΗ'!B11,"") | C9: =IF(AND('01_ΚΑΤΑΧΩΡΙΣΗ'!D11="ΝΑΙ",'01_ΚΑΤΑΧΩΡΙΣΗ'!C11<>""),'01_ΚΑΤΑΧΩΡΙΣΗ'!C11,"") | F9: 1 | G9: Επιλέξτε τα κελιά που θέλετε να αντιγράψετε
A10: =IF(AND('01_ΚΑΤΑΧΩΡΙΣΗ'!D12="ΝΑΙ",'01_ΚΑΤΑΧΩΡΙΣΗ'!C12<>""),'01_ΚΑΤΑΧΩΡΙΣΗ'!A12,"") | B10: =IF(AND('01_ΚΑΤΑΧΩΡΙΣΗ'!D12="ΝΑΙ",'01_ΚΑΤΑΧΩΡΙΣΗ'!C12<>""),'01_ΚΑΤΑΧΩΡΙΣΗ'!B12,"") | C10: =IF(AND('01_ΚΑΤΑΧΩΡΙΣΗ'!D12="ΝΑΙ",'01_ΚΑΤΑΧΩΡΙΣΗ'!C12<>""),'01_ΚΑΤΑΧΩΡΙΣΗ'!C12,"") | F10: 2 | G10: Πατήστε Ctrl+C για αντιγραφή.
A11: =IF(AND('01_ΚΑΤΑΧΩΡΙΣΗ'!D13="ΝΑΙ",'01_ΚΑΤΑΧΩΡΙΣΗ'!C13<>""),'01_ΚΑΤΑΧΩΡΙΣΗ'!A13,"") | B11: =IF(AND('01_ΚΑΤΑΧΩΡΙΣΗ'!D13="ΝΑΙ",'01_ΚΑΤΑΧΩΡΙΣΗ'!C13<>""),'01_ΚΑΤΑΧΩΡΙΣΗ'!B13,"") | C11: =IF(AND('01_ΚΑΤΑΧΩΡΙΣΗ'!D13="ΝΑΙ",'01_ΚΑΤΑΧΩΡΙΣΗ'!C13<>""),'01_ΚΑΤΑΧΩΡΙΣΗ'!C13,"") | F11: 3 | G11: Ανοίξτε το Template_Partidas_KOA_Deltia_Ygeias_2026-2027.xlsx.
A12: =IF(AND('01_ΚΑΤΑΧΩΡΙΣΗ'!D14="ΝΑΙ",'01_ΚΑΤΑΧΩΡΙΣΗ'!C14<>""),'01_ΚΑΤΑΧΩΡΙΣΗ'!A14,"") | B12: =IF(AND('01_ΚΑΤΑΧΩΡΙΣΗ'!D14="ΝΑΙ",'01_ΚΑΤΑΧΩΡΙΣΗ'!C14<>""),'01_ΚΑΤΑΧΩΡΙΣΗ'!B14,"") | C12: =IF(AND('01_ΚΑΤΑΧΩΡΙΣΗ'!D14="ΝΑΙ",'01_ΚΑΤΑΧΩΡΙΣΗ'!C14<>""),'01_ΚΑΤΑΧΩΡΙΣΗ'!C14,"") | F12: 4 | G12: Επιλέξτε το κελί A9.
A13: =IF(AND('01_ΚΑΤΑΧΩΡΙΣΗ'!D15="ΝΑΙ",'01_ΚΑΤΑΧΩΡΙΣΗ'!C15<>""),'01_ΚΑΤΑΧΩΡΙΣΗ'!A15,"") | B13: =IF(AND('01_ΚΑΤΑΧΩΡΙΣΗ'!D15="ΝΑΙ",'01_ΚΑΤΑΧΩΡΙΣΗ'!C15<>""),'01_ΚΑΤΑΧΩΡΙΣΗ'!B15,"") | C13: =IF(AND('01_ΚΑΤΑΧΩΡΙΣΗ'!D15="ΝΑΙ",'01_ΚΑΤΑΧΩΡΙΣΗ'!C15<>""),'01_ΚΑΤΑΧΩΡΙΣΗ'!C15,"") | F13: 5 | G13: Χρησιμοποιήστε Επικόλληση ειδική → Τιμές (Paste Values).
A14: =IF(AND('01_ΚΑΤΑΧΩΡΙΣΗ'!D16="ΝΑΙ",'01_ΚΑΤΑΧΩΡΙΣΗ'!C16<>""),'01_ΚΑΤΑΧΩΡΙΣΗ'!A16,"") | B14: =IF(AND('01_ΚΑΤΑΧΩΡΙΣΗ'!D16="ΝΑΙ",'01_ΚΑΤΑΧΩΡΙΣΗ'!C16<>""),'01_ΚΑΤΑΧΩΡΙΣΗ'!B16,"") | C14: =IF(AND('01_ΚΑΤΑΧΩΡΙΣΗ'!D16="ΝΑΙ",'01_ΚΑΤΑΧΩΡΙΣΗ'!C16<>""),'01_ΚΑΤΑΧΩΡΙΣΗ'!C16,"") | F14: 6 | G14: Η στήλη «Αρ. Ταυτότητας / Διαβατηρίου / ARC» δεν συμπληρώνεται από το σχολείο. Συμπληρώνεται από τον ΚΟΑ βάσει της επίσημης αίτησης.
A15: =IF(AND('01_ΚΑΤΑΧΩΡΙΣΗ'!D17="ΝΑΙ",'01_ΚΑΤΑΧΩΡΙΣΗ'!C17<>""),'01_ΚΑΤΑΧΩΡΙΣΗ'!A17,"") | B15: =IF(AND('01_ΚΑΤΑΧΩΡΙΣΗ'!D17="ΝΑΙ",'01_ΚΑΤΑΧΩΡΙΣΗ'!C17<>""),'01_ΚΑΤΑΧΩΡΙΣΗ'!B17,"") | C15: =IF(AND('01_ΚΑΤΑΧΩΡΙΣΗ'!D17="ΝΑΙ",'01_ΚΑΤΑΧΩΡΙΣΗ'!C17<>""),'01_ΚΑΤΑΧΩΡΙΣΗ'!C17,"") | F15: 7 | G15: Ελέγξτε ότι τα στοιχεία μεταφέρθηκαν σωστά.
A16: =IF(AND('01_ΚΑΤΑΧΩΡΙΣΗ'!D18="ΝΑΙ",'01_ΚΑΤΑΧΩΡΙΣΗ'!C18<>""),'01_ΚΑΤΑΧΩΡΙΣΗ'!A18,"") | B16: =IF(AND('01_ΚΑΤΑΧΩΡΙΣΗ'!D18="ΝΑΙ",'01_ΚΑΤΑΧΩΡΙΣΗ'!C18<>""),'01_ΚΑΤΑΧΩΡΙΣΗ'!B18,"") | C16: =IF(AND('01_ΚΑΤΑΧΩΡΙΣΗ'!D18="ΝΑΙ",'01_ΚΑΤΑΧΩΡΙΣΗ'!C18<>""),'01_ΚΑΤΑΧΩΡΙΣΗ'!C18,"") | F16: 8 | G16: Αποθηκεύστε ως [Κωδικός Παρτίδας]_KOA.xlsx (π.χ. TRO05-2627-01_KOA.xlsx).
A17: =IF(AND('01_ΚΑΤΑΧΩΡΙΣΗ'!D19="ΝΑΙ",'01_ΚΑΤΑΧΩΡΙΣΗ'!C19<>""),'01_ΚΑΤΑΧΩΡΙΣΗ'!A19,"") | B17: =IF(AND('01_ΚΑΤΑΧΩΡΙΣΗ'!D19="ΝΑΙ",'01_ΚΑΤΑΧΩΡΙΣΗ'!C19<>""),'01_ΚΑΤΑΧΩΡΙΣΗ'!B19,"") | C17: =IF(AND('01_ΚΑΤΑΧΩΡΙΣΗ'!D19="ΝΑΙ",'01_ΚΑΤΑΧΩΡΙΣΗ'!C19<>""),'01_ΚΑΤΑΧΩΡΙΣΗ'!C19,"")
A18: =IF(AND('01_ΚΑΤΑΧΩΡΙΣΗ'!D20="ΝΑΙ",'01_ΚΑΤΑΧΩΡΙΣΗ'!C20<>""),'01_ΚΑΤΑΧΩΡΙΣΗ'!A20,"") | B18: =IF(AND('01_ΚΑΤΑΧΩΡΙΣΗ'!D20="ΝΑΙ",'01_ΚΑΤΑΧΩΡΙΣΗ'!C20<>""),'01_ΚΑΤΑΧΩΡΙΣΗ'!B20,"") | C18: =IF(AND('01_ΚΑΤΑΧΩΡΙΣΗ'!D20="ΝΑΙ",'01_ΚΑΤΑΧΩΡΙΣΗ'!C20<>""),'01_ΚΑΤΑΧΩΡΙΣΗ'!C20,"")
A19: =IF(AND('01_ΚΑΤΑΧΩΡΙΣΗ'!D21="ΝΑΙ",'01_ΚΑΤΑΧΩΡΙΣΗ'!C21<>""),'01_ΚΑΤΑΧΩΡΙΣΗ'!A21,"") | B19: =IF(AND('01_ΚΑΤΑΧΩΡΙΣΗ'!D21="ΝΑΙ",'01_ΚΑΤΑΧΩΡΙΣΗ'!C21<>""),'01_ΚΑΤΑΧΩΡΙΣΗ'!B21,"") | C19: =IF(AND('01_ΚΑΤΑΧΩΡΙΣΗ'!D21="ΝΑΙ",'01_ΚΑΤΑΧΩΡΙΣΗ'!C21<>""),'01_ΚΑΤΑΧΩΡΙΣΗ'!C21,"")
A20: =IF(AND('01_ΚΑΤΑΧΩΡΙΣΗ'!D22="ΝΑΙ",'01_ΚΑΤΑΧΩΡΙΣΗ'!C22<>""),'01_ΚΑΤΑΧΩΡΙΣΗ'!A22,"") | B20: =IF(AND('01_ΚΑΤΑΧΩΡΙΣΗ'!D22="ΝΑΙ",'01_ΚΑΤΑΧΩΡΙΣΗ'!C22<>""),'01_ΚΑΤΑΧΩΡΙΣΗ'!B22,"") | C20: =IF(AND('01_ΚΑΤΑΧΩΡΙΣΗ'!D22="ΝΑΙ",'01_ΚΑΤΑΧΩΡΙΣΗ'!C22<>""),'01_ΚΑΤΑΧΩΡΙΣΗ'!C22,"")
A21: =IF(AND('01_ΚΑΤΑΧΩΡΙΣΗ'!D23="ΝΑΙ",'01_ΚΑΤΑΧΩΡΙΣΗ'!C23<>""),'01_ΚΑΤΑΧΩΡΙΣΗ'!A23,"") | B21: =IF(AND('01_ΚΑΤΑΧΩΡΙΣΗ'!D23="ΝΑΙ",'01_ΚΑΤΑΧΩΡΙΣΗ'!C23<>""),'01_ΚΑΤΑΧΩΡΙΣΗ'!B23,"") | C21: =IF(AND('01_ΚΑΤΑΧΩΡΙΣΗ'!D23="ΝΑΙ",'01_ΚΑΤΑΧΩΡΙΣΗ'!C23<>""),'01_ΚΑΤΑΧΩΡΙΣΗ'!C23,"")
A22: =IF(AND('01_ΚΑΤΑΧΩΡΙΣΗ'!D24="ΝΑΙ",'01_ΚΑΤΑΧΩΡΙΣΗ'!C24<>""),'01_ΚΑΤΑΧΩΡΙΣΗ'!A24,"") | B22: =IF(AND('01_ΚΑΤΑΧΩΡΙΣΗ'!D24="ΝΑΙ",'01_ΚΑΤΑΧΩΡΙΣΗ'!C24<>""),'01_ΚΑΤΑΧΩΡΙΣΗ'!B24,"") | C22: =IF(AND('01_ΚΑΤΑΧΩΡΙΣΗ'!D24="ΝΑΙ",'01_ΚΑΤΑΧΩΡΙΣΗ'!C24<>""),'01_ΚΑΤΑΧΩΡΙΣΗ'!C24,"")
A23: =IF(AND('01_ΚΑΤΑΧΩΡΙΣΗ'!D25="ΝΑΙ",'01_ΚΑΤΑΧΩΡΙΣΗ'!C25<>""),'01_ΚΑΤΑΧΩΡΙΣΗ'!A25,"") | B23: =IF(AND('01_ΚΑΤΑΧΩΡΙΣΗ'!D25="ΝΑΙ",'01_ΚΑΤΑΧΩΡΙΣΗ'!C25<>""),'01_ΚΑΤΑΧΩΡΙΣΗ'!B25,"") | C23: =IF(AND('01_ΚΑΤΑΧΩΡΙΣΗ'!D25="ΝΑΙ",'01_ΚΑΤΑΧΩΡΙΣΗ'!C25<>""),'01_ΚΑΤΑΧΩΡΙΣΗ'!C25,"")
A24: =IF(AND('01_ΚΑΤΑΧΩΡΙΣΗ'!D26="ΝΑΙ",'01_ΚΑΤΑΧΩΡΙΣΗ'!C26<>""),'01_ΚΑΤΑΧΩΡΙΣΗ'!A26,"") | B24: =IF(AND('01_ΚΑΤΑΧΩΡΙΣΗ'!D26="ΝΑΙ",'01_ΚΑΤΑΧΩΡΙΣΗ'!C26<>""),'01_ΚΑΤΑΧΩΡΙΣΗ'!B26,"") | C24: =IF(AND('01_ΚΑΤΑΧΩΡΙΣΗ'!D26="ΝΑΙ",'01_ΚΑΤΑΧΩΡΙΣΗ'!C26<>""),'01_ΚΑΤΑΧΩΡΙΣΗ'!C26,"")
A25: =IF(AND('01_ΚΑΤΑΧΩΡΙΣΗ'!D27="ΝΑΙ",'01_ΚΑΤΑΧΩΡΙΣΗ'!C27<>""),'01_ΚΑΤΑΧΩΡΙΣΗ'!A27,"") | B25: =IF(AND('01_ΚΑΤΑΧΩΡΙΣΗ'!D27="ΝΑΙ",'01_ΚΑΤΑΧΩΡΙΣΗ'!C27<>""),'01_ΚΑΤΑΧΩΡΙΣΗ'!B27,"") | C25: =IF(AND('01_ΚΑΤΑΧΩΡΙΣΗ'!D27="ΝΑΙ",'01_ΚΑΤΑΧΩΡΙΣΗ'!C27<>""),'01_ΚΑΤΑΧΩΡΙΣΗ'!C27,"")
A26: =IF(AND('01_ΚΑΤΑΧΩΡΙΣΗ'!D28="ΝΑΙ",'01_ΚΑΤΑΧΩΡΙΣΗ'!C28<>""),'01_ΚΑΤΑΧΩΡΙΣΗ'!A28,"") | B26: =IF(AND('01_ΚΑΤΑΧΩΡΙΣΗ'!D28="ΝΑΙ",'01_ΚΑΤΑΧΩΡΙΣΗ'!C28<>""),'01_ΚΑΤΑΧΩΡΙΣΗ'!B28,"") | C26: =IF(AND('01_ΚΑΤΑΧΩΡΙΣΗ'!D28="ΝΑΙ",'01_ΚΑΤΑΧΩΡΙΣΗ'!C28<>""),'01_ΚΑΤΑΧΩΡΙΣΗ'!C28,"")
A27: =IF(AND('01_ΚΑΤΑΧΩΡΙΣΗ'!D29="ΝΑΙ",'01_ΚΑΤΑΧΩΡΙΣΗ'!C29<>""),'01_ΚΑΤΑΧΩΡΙΣΗ'!A29,"") | B27: =IF(AND('01_ΚΑΤΑΧΩΡΙΣΗ'!D29="ΝΑΙ",'01_ΚΑΤΑΧΩΡΙΣΗ'!C29<>""),'01_ΚΑΤΑΧΩΡΙΣΗ'!B29,"") | C27: =IF(AND('01_ΚΑΤΑΧΩΡΙΣΗ'!D29="ΝΑΙ",'01_ΚΑΤΑΧΩΡΙΣΗ'!C29<>""),'01_ΚΑΤΑΧΩΡΙΣΗ'!C29,"")
A28: =IF(AND('01_ΚΑΤΑΧΩΡΙΣΗ'!D30="ΝΑΙ",'01_ΚΑΤΑΧΩΡΙΣΗ'!C30<>""),'01_ΚΑΤΑΧΩΡΙΣΗ'!A30,"") | B28: =IF(AND('01_ΚΑΤΑΧΩΡΙΣΗ'!D30="ΝΑΙ",'01_ΚΑΤΑΧΩΡΙΣΗ'!C30<>""),'01_ΚΑΤΑΧΩΡΙΣΗ'!B30,"") | C28: =IF(AND('01_ΚΑΤΑΧΩΡΙΣΗ'!D30="ΝΑΙ",'01_ΚΑΤΑΧΩΡΙΣΗ'!C30<>""),'01_ΚΑΤΑΧΩΡΙΣΗ'!C30,"")
... A108: =IF(AND('01_ΚΑΤΑΧΩΡΙΣΗ'!D110="ΝΑΙ",'01_ΚΑΤΑΧΩΡΙΣΗ'!C110<>""),'01_ΚΑΤΑΧΩΡΙΣΗ'!A110,"") | B108: =IF(AND('01_ΚΑΤΑΧΩΡΙΣΗ'!D110="ΝΑΙ",'01_ΚΑΤΑΧΩΡΙΣΗ'!C110<>""),'01_ΚΑΤΑΧΩΡΙΣΗ'!B110,"") | C108: =IF(AND('01_ΚΑΤΑΧΩΡΙΣΗ'!D110="ΝΑΙ",'01_ΚΑΤΑΧΩΡΙΣΗ'!C110<>""),'01_ΚΑΤΑΧΩΡΙΣΗ'!C110,"")

Sheet 03_ΠΡΟΣ_ΥΠΑΝ
A1: ΚΑΤΑΣΤΑΣΗ ΠΡΟΣ ΥΠΑΝ – ΔΕΛΤΙΑ ΥΓΕΙΑΣ 2026–2027
A2: Αυτό το Αρχείο διατηρείται στο σχολείο και δεν αποστέλλεται.
A3: Σχολείο | B3: =IF('01_ΚΑΤΑΧΩΡΙΣΗ'!B4="","",'01_ΚΑΤΑΧΩΡΙΣΗ'!B4) | C3: Κωδικός Παρτίδας | D3: =IF('01_ΚΑΤΑΧΩΡΙΣΗ'!D5="","",'01_ΚΑΤΑΧΩΡΙΣΗ'!D5) | F3: Ημερομηνία αποστολής προς ΚΟΑ | G3: =IF('01_ΚΑΤΑΧΩΡΙΣΗ'!E6="","",'01_ΚΑΤΑΧΩΡΙΣΗ'!E6) | H3: Tracking προς ΚΟΑ | I3: =IF('01_ΚΑΤΑΧΩΡΙΣΗ'!G6="","",'01_ΚΑΤΑΧΩΡΙΣΗ'!G6)
A4: Υπεύθυνος/η | B4: =IF('01_ΚΑΤΑΧΩΡΙΣΗ'!G5="","",'01_ΚΑΤΑΧΩΡΙΣΗ'!G5) | C4: Τηλέφωνο | D4: =IF('01_ΚΑΤΑΧΩΡΙΣΗ'!B6="","",'01_ΚΑΤΑΧΩΡΙΣΗ'!B6) | F4: Σύνολο υποθέσεων/ιατρικών φακέλων προς ΚΟΑ | G4: =IF('01_ΚΑΤΑΧΩΡΙΣΗ'!B4="","",COUNTIFS('01_ΚΑΤΑΧΩΡΙΣΗ'!D11:D110,"ΝΑΙ",'01_ΚΑΤΑΧΩΡΙΣΗ'!C11:C110,"<>"))
A5: Ημερομηνία αποστολής προς ΥΠΑΝ | B5: =IF('01_ΚΑΤΑΧΩΡΙΣΗ'!E7="","",'01_ΚΑΤΑΧΩΡΙΣΗ'!E7) | C5: Tracking προς ΥΠΑΝ | D5: =IF('01_ΚΑΤΑΧΩΡΙΣΗ'!G7="","",'01_ΚΑΤΑΧΩΡΙΣΗ'!G7)
A6: Σύνολο οικονομικών υποβολών | B6: =IF('01_ΚΑΤΑΧΩΡΙΣΗ'!B4="","",COUNTIFS('01_ΚΑΤΑΧΩΡΙΣΗ'!D11:D110,"ΝΑΙ",'01_ΚΑΤΑΧΩΡΙΣΗ'!E11:E110,"ΝΑΙ",'01_ΚΑΤΑΧΩΡΙΣΗ'!C11:C110,"<>"))
A8: Α/Α | B8: Κωδικός Υπόθεσης | C8: Ονοματεπώνυμο | D8: Ιατρικός φάκελος | E8: Οικονομική υποβολή | F8: Αιτούμενο Ποσό Επιστροφής (€) – έως €50 | H8: ΟΔΗΓΙΕΣ ΣΥΜΠΛΗΡΩΣΗΣ 03_ΠΡΟΣ_ΥΠΑΝ
A9: =IF(AND('01_ΚΑΤΑΧΩΡΙΣΗ'!D11="ΝΑΙ",'01_ΚΑΤΑΧΩΡΙΣΗ'!C11<>""),'01_ΚΑΤΑΧΩΡΙΣΗ'!A11,"") | B9: =IF(AND('01_ΚΑΤΑΧΩΡΙΣΗ'!D11="ΝΑΙ",'01_ΚΑΤΑΧΩΡΙΣΗ'!C11<>""),'01_ΚΑΤΑΧΩΡΙΣΗ'!B11,"") | C9: =IF(AND('01_ΚΑΤΑΧΩΡΙΣΗ'!D11="ΝΑΙ",'01_ΚΑΤΑΧΩΡΙΣΗ'!C11<>""),'01_ΚΑΤΑΧΩΡΙΣΗ'!C11,"") | D9: =IF(AND('01_ΚΑΤΑΧΩΡΙΣΗ'!D11="ΝΑΙ",'01_ΚΑΤΑΧΩΡΙΣΗ'!C11<>""),'01_ΚΑΤΑΧΩΡΙΣΗ'!D11,"") | E9: =IF(AND('01_ΚΑΤΑΧΩΡΙΣΗ'!D11="ΝΑΙ",'01_ΚΑΤΑΧΩΡΙΣΗ'!C11<>""),'01_ΚΑΤΑΧΩΡΙΣΗ'!E11,"") | F9: =IF(AND('01_ΚΑΤΑΧΩΡΙΣΗ'!D11="ΝΑΙ",'01_ΚΑΤΑΧΩΡΙΣΗ'!E11="ΝΑΙ",'01_ΚΑΤΑΧΩΡΙΣΗ'!C11<>""),'01_ΚΑΤΑΧΩΡΙΣΗ'!F11,"") | H9: 1 | I9: Επιλέξτε τα κελιά που θέλετε να αντιγράψετε
A10: =IF(AND('01_ΚΑΤΑΧΩΡΙΣΗ'!D12="ΝΑΙ",'01_ΚΑΤΑΧΩΡΙΣΗ'!C12<>""),'01_ΚΑΤΑΧΩΡΙΣΗ'!A12,"") | B10: =IF(AND('01_ΚΑΤΑΧΩΡΙΣΗ'!D12="ΝΑΙ",'01_ΚΑΤΑΧΩΡΙΣΗ'!C12<>""),'01_ΚΑΤΑΧΩΡΙΣΗ'!B12,"") | C10: =IF(AND('01_ΚΑΤΑΧΩΡΙΣΗ'!D12="ΝΑΙ",'01_ΚΑΤΑΧΩΡΙΣΗ'!C12<>""),'01_ΚΑΤΑΧΩΡΙΣΗ'!C12,"") | D10: =IF(AND('01_ΚΑΤΑΧΩΡΙΣΗ'!D12="ΝΑΙ",'01_ΚΑΤΑΧΩΡΙΣΗ'!C12<>""),'01_ΚΑΤΑΧΩΡΙΣΗ'!D12,"") | E10: =IF(AND('01_ΚΑΤΑΧΩΡΙΣΗ'!D12="ΝΑΙ",'01_ΚΑΤΑΧΩΡΙΣΗ'!C12<>""),'01_ΚΑΤΑΧΩΡΙΣΗ'!E12,"") | F10: =IF(AND('01_ΚΑΤΑΧΩΡΙΣΗ'!D12="ΝΑΙ",'01_ΚΑΤΑΧΩΡΙΣΗ'!E12="ΝΑΙ",'01_ΚΑΤΑΧΩΡΙΣΗ'!C12<>""),'01_ΚΑΤΑΧΩΡΙΣΗ'!F12,"") | H10: 2 | I10: Πατήστε Ctrl+C για αντιγραφή.
A11: =IF(AND('01_ΚΑΤΑΧΩΡΙΣΗ'!D13="ΝΑΙ",'01_ΚΑΤΑΧΩΡΙΣΗ'!C13<>""),'01_ΚΑΤΑΧΩΡΙΣΗ'!A13,"") | B11: =IF(AND('01_ΚΑΤΑΧΩΡΙΣΗ'!D13="ΝΑΙ",'01_ΚΑΤΑΧΩΡΙΣΗ'!C13<>""),'01_ΚΑΤΑΧΩΡΙΣΗ'!B13,"") | C11: =IF(AND('01_ΚΑΤΑΧΩΡΙΣΗ'!D13="ΝΑΙ",'01_ΚΑΤΑΧΩΡΙΣΗ'!C13<>""),'01_ΚΑΤΑΧΩΡΙΣΗ'!C13,"") | D11: =IF(AND('01_ΚΑΤΑΧΩΡΙΣΗ'!D13="ΝΑΙ",'01_ΚΑΤΑΧΩΡΙΣΗ'!C13<>""),'01_ΚΑΤΑΧΩΡΙΣΗ'!D13,"") | E11: =IF(AND('01_ΚΑΤΑΧΩΡΙΣΗ'!D13="ΝΑΙ",'01_ΚΑΤΑΧΩΡΙΣΗ'!C13<>""),'01_ΚΑΤΑΧΩΡΙΣΗ'!E13,"") | F11: =IF(AND('01_ΚΑΤΑΧΩΡΙΣΗ'!D13="ΝΑΙ",'01_ΚΑΤΑΧΩΡΙΣΗ'!E13="ΝΑΙ",'01_ΚΑΤΑΧΩΡΙΣΗ'!C13<>""),'01_ΚΑΤΑΧΩΡΙΣΗ'!F13,"") | H11: 3 | I11: Ανοίξτε το αρχείο Template_Partidas_YPAN_Deltia_Ygeias_2026-2027.xlsx.
A12: =IF(AND('01_ΚΑΤΑΧΩΡΙΣΗ'!D14="ΝΑΙ",'01_ΚΑΤΑΧΩΡΙΣΗ'!C14<>""),'01_ΚΑΤΑΧΩΡΙΣΗ'!A14,"") | B12: =IF(AND('01_ΚΑΤΑΧΩΡΙΣΗ'!D14="ΝΑΙ",'01_ΚΑΤΑΧΩΡΙΣΗ'!C14<>""),'01_ΚΑΤΑΧΩΡΙΣΗ'!B14,"") | C12: =IF(AND('01_ΚΑΤΑΧΩΡΙΣΗ'!D14="ΝΑΙ",'01_ΚΑΤΑΧΩΡΙΣΗ'!C14<>""),'01_ΚΑΤΑΧΩΡΙΣΗ'!C14,"") | D12: =IF(AND('01_ΚΑΤΑΧΩΡΙΣΗ'!D14="ΝΑΙ",'01_ΚΑΤΑΧΩΡΙΣΗ'!C14<>""),'01_ΚΑΤΑΧΩΡΙΣΗ'!D14,"") | E12: =IF(AND('01_ΚΑΤΑΧΩΡΙΣΗ'!D14="ΝΑΙ",'01_ΚΑΤΑΧΩΡΙΣΗ'!C14<>""),'01_ΚΑΤΑΧΩΡΙΣΗ'!E14,"") | F12: =IF(AND('01_ΚΑΤΑΧΩΡΙΣΗ'!D14="ΝΑΙ",'01_ΚΑΤΑΧΩΡΙΣΗ'!E14="ΝΑΙ",'01_ΚΑΤΑΧΩΡΙΣΗ'!C14<>""),'01_ΚΑΤΑΧΩΡΙΣΗ'!F14,"") | H12: 4 | I12: Επιλέξτε το κελί A9.
A13: =IF(AND('01_ΚΑΤΑΧΩΡΙΣΗ'!D15="ΝΑΙ",'01_ΚΑΤΑΧΩΡΙΣΗ'!C15<>""),'01_ΚΑΤΑΧΩΡΙΣΗ'!A15,"") | B13: =IF(AND('01_ΚΑΤΑΧΩΡΙΣΗ'!D15="ΝΑΙ",'01_ΚΑΤΑΧΩΡΙΣΗ'!C15<>""),'01_ΚΑΤΑΧΩΡΙΣΗ'!B15,"") | C13: =IF(AND('01_ΚΑΤΑΧΩΡΙΣΗ'!D15="ΝΑΙ",'01_ΚΑΤΑΧΩΡΙΣΗ'!C15<>""),'01_ΚΑΤΑΧΩΡΙΣΗ'!C15,"") | D13: =IF(AND('01_ΚΑΤΑΧΩΡΙΣΗ'!D15="ΝΑΙ",'01_ΚΑΤΑΧΩΡΙΣΗ'!C15<>""),'01_ΚΑΤΑΧΩΡΙΣΗ'!D15,"") | E13: =IF(AND('01_ΚΑΤΑΧΩΡΙΣΗ'!D15="ΝΑΙ",'01_ΚΑΤΑΧΩΡΙΣΗ'!C15<>""),'01_ΚΑΤΑΧΩΡΙΣΗ'!E15,"") | F13: =IF(AND('01_ΚΑΤΑΧΩΡΙΣΗ'!D15="ΝΑΙ",'01_ΚΑΤΑΧΩΡΙΣΗ'!E15="ΝΑΙ",'01_ΚΑΤΑΧΩΡΙΣΗ'!C15<>""),'01_ΚΑΤΑΧΩΡΙΣΗ'!F15,"") | H13: 5 | I13: Χρησιμοποιήστε Επικόλληση ειδική → Τιμές (Paste Values).
A14: =IF(AND('01_ΚΑΤΑΧΩΡΙΣΗ'!D16="ΝΑΙ",'01_ΚΑΤΑΧΩΡΙΣΗ'!C16<>""),'01_ΚΑΤΑΧΩΡΙΣΗ'!A16,"") | B14: =IF(AND('01_ΚΑΤΑΧΩΡΙΣΗ'!D16="ΝΑΙ",'01_ΚΑΤΑΧΩΡΙΣΗ'!C16<>""),'01_ΚΑΤΑΧΩΡΙΣΗ'!B16,"") | C14: =IF(AND('01_ΚΑΤΑΧΩΡΙΣΗ'!D16="ΝΑΙ",'01_ΚΑΤΑΧΩΡΙΣΗ'!C16<>""),'01_ΚΑΤΑΧΩΡΙΣΗ'!C16,"") | D14: =IF(AND('01_ΚΑΤΑΧΩΡΙΣΗ'!D16="ΝΑΙ",'01_ΚΑΤΑΧΩΡΙΣΗ'!C16<>""),'01_ΚΑΤΑΧΩΡΙΣΗ'!D16,"") | E14: =IF(AND('01_ΚΑΤΑΧΩΡΙΣΗ'!D16="ΝΑΙ",'01_ΚΑΤΑΧΩΡΙΣΗ'!C16<>""),'01_ΚΑΤΑΧΩΡΙΣΗ'!E16,"") | F14: =IF(AND('01_ΚΑΤΑΧΩΡΙΣΗ'!D16="ΝΑΙ",'01_ΚΑΤΑΧΩΡΙΣΗ'!E16="ΝΑΙ",'01_ΚΑΤΑΧΩΡΙΣΗ'!C16<>""),'01_ΚΑΤΑΧΩΡΙΣΗ'!F16,"") | H14: 6 | I14: Ελέγξτε ότι τα στοιχεία μεταφέρθηκαν σωστά, συμπεριλαμβανομένου του Αιτούμενου Ποσού Επιστροφής (€) – έως €50.
A15: =IF(AND('01_ΚΑΤΑΧΩΡΙΣΗ'!D17="ΝΑΙ",'01_ΚΑΤΑΧΩΡΙΣΗ'!C17<>""),'01_ΚΑΤΑΧΩΡΙΣΗ'!A17,"") | B15: =IF(AND('01_ΚΑΤΑΧΩΡΙΣΗ'!D17="ΝΑΙ",'01_ΚΑΤΑΧΩΡΙΣΗ'!C17<>""),'01_ΚΑΤΑΧΩΡΙΣΗ'!B17,"") | C15: =IF(AND('01_ΚΑΤΑΧΩΡΙΣΗ'!D17="ΝΑΙ",'01_ΚΑΤΑΧΩΡΙΣΗ'!C17<>""),'01_ΚΑΤΑΧΩΡΙΣΗ'!C17,"") | D15: =IF(AND('01_ΚΑΤΑΧΩΡΙΣΗ'!D17="ΝΑΙ",'01_ΚΑΤΑΧΩΡΙΣΗ'!C17<>""),'01_ΚΑΤΑΧΩΡΙΣΗ'!D17,"") | E15: =IF(AND('01_ΚΑΤΑΧΩΡΙΣΗ'!D17="ΝΑΙ",'01_ΚΑΤΑΧΩΡΙΣΗ'!C17<>""),'01_ΚΑΤΑΧΩΡΙΣΗ'!E17,"") | F15: =IF(AND('01_ΚΑΤΑΧΩΡΙΣΗ'!D17="ΝΑΙ",'01_ΚΑΤΑΧΩΡΙΣΗ'!E17="ΝΑΙ",'01_ΚΑΤΑΧΩΡΙΣΗ'!C17<>""),'01_ΚΑΤΑΧΩΡΙΣΗ'!F17,"") | H15: 7 | I15: Αποθηκεύστε ως [Κωδικός Παρτίδας]_YPAN.xlsx.
A16: =IF(AND('01_ΚΑΤΑΧΩΡΙΣΗ'!D18="ΝΑΙ",'01_ΚΑΤΑΧΩΡΙΣΗ'!C18<>""),'01_ΚΑΤΑΧΩΡΙΣΗ'!A18,"") | B16: =IF(AND('01_ΚΑΤΑΧΩΡΙΣΗ'!D18="ΝΑΙ",'01_ΚΑΤΑΧΩΡΙΣΗ'!C18<>""),'01_ΚΑΤΑΧΩΡΙΣΗ'!B18,"") | C16: =IF(AND('01_ΚΑΤΑΧΩΡΙΣΗ'!D18="ΝΑΙ",'01_ΚΑΤΑΧΩΡΙΣΗ'!C18<>""),'01_ΚΑΤΑΧΩΡΙΣΗ'!C18,"") | D16: =IF(AND('01_ΚΑΤΑΧΩΡΙΣΗ'!D18="ΝΑΙ",'01_ΚΑΤΑΧΩΡΙΣΗ'!C18<>""),'01_ΚΑΤΑΧΩΡΙΣΗ'!D18,"") | E16: =IF(AND('01_ΚΑΤΑΧΩΡΙΣΗ'!D18="ΝΑΙ",'01_ΚΑΤΑΧΩΡΙΣΗ'!C18<>""),'01_ΚΑΤΑΧΩΡΙΣΗ'!E18,"") | F16: =IF(AND('01_ΚΑΤΑΧΩΡΙΣΗ'!D18="ΝΑΙ",'01_ΚΑΤΑΧΩΡΙΣΗ'!E18="ΝΑΙ",'01_ΚΑΤΑΧΩΡΙΣΗ'!C18<>""),'01_ΚΑΤΑΧΩΡΙΣΗ'!F18,"") | H16: 8 | I16: Παράδειγμα ονομασίας: TRO05-2627-01_YPAN.xlsx.
A17: =IF(AND('01_ΚΑΤΑΧΩΡΙΣΗ'!D19="ΝΑΙ",'01_ΚΑΤΑΧΩΡΙΣΗ'!C19<>""),'01_ΚΑΤΑΧΩΡΙΣΗ'!A19,"") | B17: =IF(AND('01_ΚΑΤΑΧΩΡΙΣΗ'!D19="ΝΑΙ",'01_ΚΑΤΑΧΩΡΙΣΗ'!C19<>""),'01_ΚΑΤΑΧΩΡΙΣΗ'!B19,"") | C17: =IF(AND('01_ΚΑΤΑΧΩΡΙΣΗ'!D19="ΝΑΙ",'01_ΚΑΤΑΧΩΡΙΣΗ'!C19<>""),'01_ΚΑΤΑΧΩΡΙΣΗ'!C19,"") | D17: =IF(AND('01_ΚΑΤΑΧΩΡΙΣΗ'!D19="ΝΑΙ",'01_ΚΑΤΑΧΩΡΙΣΗ'!C19<>""),'01_ΚΑΤΑΧΩΡΙΣΗ'!D19,"") | E17: =IF(AND('01_ΚΑΤΑΧΩΡΙΣΗ'!D19="ΝΑΙ",'01_ΚΑΤΑΧΩΡΙΣΗ'!C19<>""),'01_ΚΑΤΑΧΩΡΙΣΗ'!E19,"") | F17: =IF(AND('01_ΚΑΤΑΧΩΡΙΣΗ'!D19="ΝΑΙ",'01_ΚΑΤΑΧΩΡΙΣΗ'!E19="ΝΑΙ",'01_ΚΑΤΑΧΩΡΙΣΗ'!C19<>""),'01_ΚΑΤΑΧΩΡΙΣΗ'!F19,"")
A18: =IF(AND('01_ΚΑΤΑΧΩΡΙΣΗ'!D20="ΝΑΙ",'01_ΚΑΤΑΧΩΡΙΣΗ'!C20<>""),'01_ΚΑΤΑΧΩΡΙΣΗ'!A20,"") | B18: =IF(AND('01_ΚΑΤΑΧΩΡΙΣΗ'!D20="ΝΑΙ",'01_ΚΑΤΑΧΩΡΙΣΗ'!C20<>""),'01_ΚΑΤΑΧΩΡΙΣΗ'!B20,"") | C18: =IF(AND('01_ΚΑΤΑΧΩΡΙΣΗ'!D20="ΝΑΙ",'01_ΚΑΤΑΧΩΡΙΣΗ'!C20<>""),'01_ΚΑΤΑΧΩΡΙΣΗ'!C20,"") | D18: =IF(AND('01_ΚΑΤΑΧΩΡΙΣΗ'!D20="ΝΑΙ",'01_ΚΑΤΑΧΩΡΙΣΗ'!C20<>""),'01_ΚΑΤΑΧΩΡΙΣΗ'!D20,"") | E18: =IF(AND('01_ΚΑΤΑΧΩΡΙΣΗ'!D20="ΝΑΙ",'01_ΚΑΤΑΧΩΡΙΣΗ'!C20<>""),'01_ΚΑΤΑΧΩΡΙΣΗ'!E20,"") | F18: =IF(AND('01_ΚΑΤΑΧΩΡΙΣΗ'!D20="ΝΑΙ",'01_ΚΑΤΑΧΩΡΙΣΗ'!E20="ΝΑΙ",'01_ΚΑΤΑΧΩΡΙΣΗ'!C20<>""),'01_ΚΑΤΑΧΩΡΙΣΗ'!F20,"")
A19: =IF(AND('01_ΚΑΤΑΧΩΡΙΣΗ'!D21="ΝΑΙ",'01_ΚΑΤΑΧΩΡΙΣΗ'!C21<>""),'01_ΚΑΤΑΧΩΡΙΣΗ'!A21,"") | B19: =IF(AND('01_ΚΑΤΑΧΩΡΙΣΗ'!D21="ΝΑΙ",'01_ΚΑΤΑΧΩΡΙΣΗ'!C21<>""),'01_ΚΑΤΑΧΩΡΙΣΗ'!B21,"") | C19: =IF(AND('01_ΚΑΤΑΧΩΡΙΣΗ'!D21="ΝΑΙ",'01_ΚΑΤΑΧΩΡΙΣΗ'!C21<>""),'01_ΚΑΤΑΧΩΡΙΣΗ'!C21,"") | D19: =IF(AND('01_ΚΑΤΑΧΩΡΙΣΗ'!D21="ΝΑΙ",'01_ΚΑΤΑΧΩΡΙΣΗ'!C21<>""),'01_ΚΑΤΑΧΩΡΙΣΗ'!D21,"") | E19: =IF(AND('01_ΚΑΤΑΧΩΡΙΣΗ'!D21="ΝΑΙ",'01_ΚΑΤΑΧΩΡΙΣΗ'!C21<>""),'01_ΚΑΤΑΧΩΡΙΣΗ'!E21,"") | F19: =IF(AND('01_ΚΑΤΑΧΩΡΙΣΗ'!D21="ΝΑΙ",'01_ΚΑΤΑΧΩΡΙΣΗ'!E21="ΝΑΙ",'01_ΚΑΤΑΧΩΡΙΣΗ'!C21<>""),'01_ΚΑΤΑΧΩΡΙΣΗ'!F21,"")
A20: =IF(AND('01_ΚΑΤΑΧΩΡΙΣΗ'!D22="ΝΑΙ",'01_ΚΑΤΑΧΩΡΙΣΗ'!C22<>""),'01_ΚΑΤΑΧΩΡΙΣΗ'!A22,"") | B20: =IF(AND('01_ΚΑΤΑΧΩΡΙΣΗ'!D22="ΝΑΙ",'01_ΚΑΤΑΧΩΡΙΣΗ'!C22<>""),'01_ΚΑΤΑΧΩΡΙΣΗ'!B22,"") | C20: =IF(AND('01_ΚΑΤΑΧΩΡΙΣΗ'!D22="ΝΑΙ",'01_ΚΑΤΑΧΩΡΙΣΗ'!C22<>""),'01_ΚΑΤΑΧΩΡΙΣΗ'!C22,"") | D20: =IF(AND('01_ΚΑΤΑΧΩΡΙΣΗ'!D22="ΝΑΙ",'01_ΚΑΤΑΧΩΡΙΣΗ'!C22<>""),'01_ΚΑΤΑΧΩΡΙΣΗ'!D22,"") | E20: =IF(AND('01_ΚΑΤΑΧΩΡΙΣΗ'!D22="ΝΑΙ",'01_ΚΑΤΑΧΩΡΙΣΗ'!C22<>""),'01_ΚΑΤΑΧΩΡΙΣΗ'!E22,"") | F20: =IF(AND('01_ΚΑΤΑΧΩΡΙΣΗ'!D22="ΝΑΙ",'01_ΚΑΤΑΧΩΡΙΣΗ'!E22="ΝΑΙ",'01_ΚΑΤΑΧΩΡΙΣΗ'!C22<>""),'01_ΚΑΤΑΧΩΡΙΣΗ'!F22,"")
A21: =IF(AND('01_ΚΑΤΑΧΩΡΙΣΗ'!D23="ΝΑΙ",'01_ΚΑΤΑΧΩΡΙΣΗ'!C23<>""),'01_ΚΑΤΑΧΩΡΙΣΗ'!A23,"") | B21: =IF(AND('01_ΚΑΤΑΧΩΡΙΣΗ'!D23="ΝΑΙ",'01_ΚΑΤΑΧΩΡΙΣΗ'!C23<>""),'01_ΚΑΤΑΧΩΡΙΣΗ'!B23,"") | C21: =IF(AND('01_ΚΑΤΑΧΩΡΙΣΗ'!D23="ΝΑΙ",'01_ΚΑΤΑΧΩΡΙΣΗ'!C23<>""),'01_ΚΑΤΑΧΩΡΙΣΗ'!C23,"") | D21: =IF(AND('01_ΚΑΤΑΧΩΡΙΣΗ'!D23="ΝΑΙ",'01_ΚΑΤΑΧΩΡΙΣΗ'!C23<>""),'01_ΚΑΤΑΧΩΡΙΣΗ'!D23,"") | E21: =IF(AND('01_ΚΑΤΑΧΩΡΙΣΗ'!D23="ΝΑΙ",'01_ΚΑΤΑΧΩΡΙΣΗ'!C23<>""),'01_ΚΑΤΑΧΩΡΙΣΗ'!E23,"") | F21: =IF(AND('01_ΚΑΤΑΧΩΡΙΣΗ'!D23="ΝΑΙ",'01_ΚΑΤΑΧΩΡΙΣΗ'!E23="ΝΑΙ",'01_ΚΑΤΑΧΩΡΙΣΗ'!C23<>""),'01_ΚΑΤΑΧΩΡΙΣΗ'!F23,"")
A22: =IF(AND('01_ΚΑΤΑΧΩΡΙΣΗ'!D24="ΝΑΙ",'01_ΚΑΤΑΧΩΡΙΣΗ'!C24<>""),'01_ΚΑΤΑΧΩΡΙΣΗ'!A24,"") | B22: =IF(AND('01_ΚΑΤΑΧΩΡΙΣΗ'!D24="ΝΑΙ",'01_ΚΑΤΑΧΩΡΙΣΗ'!C24<>""),'01_ΚΑΤΑΧΩΡΙΣΗ'!B24,"") | C22: =IF(AND('01_ΚΑΤΑΧΩΡΙΣΗ'!D24="ΝΑΙ",'01_ΚΑΤΑΧΩΡΙΣΗ'!C24<>""),'01_ΚΑΤΑΧΩΡΙΣΗ'!C24,"") | D22: =IF(AND('01_ΚΑΤΑΧΩΡΙΣΗ'!D24="ΝΑΙ",'01_ΚΑΤΑΧΩΡΙΣΗ'!C24<>""),'01_ΚΑΤΑΧΩΡΙΣΗ'!D24,"") | E22: =IF(AND('01_ΚΑΤΑΧΩΡΙΣΗ'!D24="ΝΑΙ",'01_ΚΑΤΑΧΩΡΙΣΗ'!C24<>""),'01_ΚΑΤΑΧΩΡΙΣΗ'!E24,"") | F22: =IF(AND('01_ΚΑΤΑΧΩΡΙΣΗ'!D24="ΝΑΙ",'01_ΚΑΤΑΧΩΡΙΣΗ'!E24="ΝΑΙ",'01_ΚΑΤΑΧΩΡΙΣΗ'!C24<>""),'01_ΚΑΤΑΧΩΡΙΣΗ'!F24,"")
A23: =IF(AND('01_ΚΑΤΑΧΩΡΙΣΗ'!D25="ΝΑΙ",'01_ΚΑΤΑΧΩΡΙΣΗ'!C25<>""),'01_ΚΑΤΑΧΩΡΙΣΗ'!A25,"") | B23: =IF(AND('01_ΚΑΤΑΧΩΡΙΣΗ'!D25="ΝΑΙ",'01_ΚΑΤΑΧΩΡΙΣΗ'!C25<>""),'01_ΚΑΤΑΧΩΡΙΣΗ'!B25,"") | C23: =IF(AND('01_ΚΑΤΑΧΩΡΙΣΗ'!D25="ΝΑΙ",'01_ΚΑΤΑΧΩΡΙΣΗ'!C25<>""),'01_ΚΑΤΑΧΩΡΙΣΗ'!C25,"") | D23: =IF(AND('01_ΚΑΤΑΧΩΡΙΣΗ'!D25="ΝΑΙ",'01_ΚΑΤΑΧΩΡΙΣΗ'!C25<>""),'01_ΚΑΤΑΧΩΡΙΣΗ'!D25,"") | E23: =IF(AND('01_ΚΑΤΑΧΩΡΙΣΗ'!D25="ΝΑΙ",'01_ΚΑΤΑΧΩΡΙΣΗ'!C25<>""),'01_ΚΑΤΑΧΩΡΙΣΗ'!E25,"") | F23: =IF(AND('01_ΚΑΤΑΧΩΡΙΣΗ'!D25="ΝΑΙ",'01_ΚΑΤΑΧΩΡΙΣΗ'!E25="ΝΑΙ",'01_ΚΑΤΑΧΩΡΙΣΗ'!C25<>""),'01_ΚΑΤΑΧΩΡΙΣΗ'!F25,"")
A24: =IF(AND('01_ΚΑΤΑΧΩΡΙΣΗ'!D26="ΝΑΙ",'01_ΚΑΤΑΧΩΡΙΣΗ'!C26<>""),'01_ΚΑΤΑΧΩΡΙΣΗ'!A26,"") | B24: =IF(AND('01_ΚΑΤΑΧΩΡΙΣΗ'!D26="ΝΑΙ",'01_ΚΑΤΑΧΩΡΙΣΗ'!C26<>""),'01_ΚΑΤΑΧΩΡΙΣΗ'!B26,"") | C24: =IF(AND('01_ΚΑΤΑΧΩΡΙΣΗ'!D26="ΝΑΙ",'01_ΚΑΤΑΧΩΡΙΣΗ'!C26<>""),'01_ΚΑΤΑΧΩΡΙΣΗ'!C26,"") | D24: =IF(AND('01_ΚΑΤΑΧΩΡΙΣΗ'!D26="ΝΑΙ",'01_ΚΑΤΑΧΩΡΙΣΗ'!C26<>""),'01_ΚΑΤΑΧΩΡΙΣΗ'!D26,"") | E24: =IF(AND('01_ΚΑΤΑΧΩΡΙΣΗ'!D26="ΝΑΙ",'01_ΚΑΤΑΧΩΡΙΣΗ'!C26<>""),'01_ΚΑΤΑΧΩΡΙΣΗ'!E26,"") | F24: =IF(AND('01_ΚΑΤΑΧΩΡΙΣΗ'!D26="ΝΑΙ",'01_ΚΑΤΑΧΩΡΙΣΗ'!E26="ΝΑΙ",'01_ΚΑΤΑΧΩΡΙΣΗ'!C26<>""),'01_ΚΑΤΑΧΩΡΙΣΗ'!F26,"")
A25: =IF(AND('01_ΚΑΤΑΧΩΡΙΣΗ'!D27="ΝΑΙ",'01_ΚΑΤΑΧΩΡΙΣΗ'!C27<>""),'01_ΚΑΤΑΧΩΡΙΣΗ'!A27,"") | B25: =IF(AND('01_ΚΑΤΑΧΩΡΙΣΗ'!D27="ΝΑΙ",'01_ΚΑΤΑΧΩΡΙΣΗ'!C27<>""),'01_ΚΑΤΑΧΩΡΙΣΗ'!B27,"") | C25: =IF(AND('01_ΚΑΤΑΧΩΡΙΣΗ'!D27="ΝΑΙ",'01_ΚΑΤΑΧΩΡΙΣΗ'!C27<>""),'01_ΚΑΤΑΧΩΡΙΣΗ'!C27,"") | D25: =IF(AND('01_ΚΑΤΑΧΩΡΙΣΗ'!D27="ΝΑΙ",'01_ΚΑΤΑΧΩΡΙΣΗ'!C27<>""),'01_ΚΑΤΑΧΩΡΙΣΗ'!D27,"") | E25: =IF(AND('01_ΚΑΤΑΧΩΡΙΣΗ'!D27="ΝΑΙ",'01_ΚΑΤΑΧΩΡΙΣΗ'!C27<>""),'01_ΚΑΤΑΧΩΡΙΣΗ'!E27,"") | F25: =IF(AND('01_ΚΑΤΑΧΩΡΙΣΗ'!D27="ΝΑΙ",'01_ΚΑΤΑΧΩΡΙΣΗ'!E27="ΝΑΙ",'01_ΚΑΤΑΧΩΡΙΣΗ'!C27<>""),'01_ΚΑΤΑΧΩΡΙΣΗ'!F27,"")
A26: =IF(AND('01_ΚΑΤΑΧΩΡΙΣΗ'!D28="ΝΑΙ",'01_ΚΑΤΑΧΩΡΙΣΗ'!C28<>""),'01_ΚΑΤΑΧΩΡΙΣΗ'!A28,"") | B26: =IF(AND('01_ΚΑΤΑΧΩΡΙΣΗ'!D28="ΝΑΙ",'01_ΚΑΤΑΧΩΡΙΣΗ'!C28<>""),'01_ΚΑΤΑΧΩΡΙΣΗ'!B28,"") | C26: =IF(AND('01_ΚΑΤΑΧΩΡΙΣΗ'!D28="ΝΑΙ",'01_ΚΑΤΑΧΩΡΙΣΗ'!C28<>""),'01_ΚΑΤΑΧΩΡΙΣΗ'!C28,"") | D26: =IF(AND('01_ΚΑΤΑΧΩΡΙΣΗ'!D28="ΝΑΙ",'01_ΚΑΤΑΧΩΡΙΣΗ'!C28<>""),'01_ΚΑΤΑΧΩΡΙΣΗ'!D28,"") | E26: =IF(AND('01_ΚΑΤΑΧΩΡΙΣΗ'!D28="ΝΑΙ",'01_ΚΑΤΑΧΩΡΙΣΗ'!C28<>""),'01_ΚΑΤΑΧΩΡΙΣΗ'!E28,"") | F26: =IF(AND('01_ΚΑΤΑΧΩΡΙΣΗ'!D28="ΝΑΙ",'01_ΚΑΤΑΧΩΡΙΣΗ'!E28="ΝΑΙ",'01_ΚΑΤΑΧΩΡΙΣΗ'!C28<>""),'01_ΚΑΤΑΧΩΡΙΣΗ'!F28,"")
A27: =IF(AND('01_ΚΑΤΑΧΩΡΙΣΗ'!D29="ΝΑΙ",'01_ΚΑΤΑΧΩΡΙΣΗ'!C29<>""),'01_ΚΑΤΑΧΩΡΙΣΗ'!A29,"") | B27: =IF(AND('01_ΚΑΤΑΧΩΡΙΣΗ'!D29="ΝΑΙ",'01_ΚΑΤΑΧΩΡΙΣΗ'!C29<>""),'01_ΚΑΤΑΧΩΡΙΣΗ'!B29,"") | C27: =IF(AND('01_ΚΑΤΑΧΩΡΙΣΗ'!D29="ΝΑΙ",'01_ΚΑΤΑΧΩΡΙΣΗ'!C29<>""),'01_ΚΑΤΑΧΩΡΙΣΗ'!C29,"") | D27: =IF(AND('01_ΚΑΤΑΧΩΡΙΣΗ'!D29="ΝΑΙ",'01_ΚΑΤΑΧΩΡΙΣΗ'!C29<>""),'01_ΚΑΤΑΧΩΡΙΣΗ'!D29,"") | E27: =IF(AND('01_ΚΑΤΑΧΩΡΙΣΗ'!D29="ΝΑΙ",'01_ΚΑΤΑΧΩΡΙΣΗ'!C29<>""),'01_ΚΑΤΑΧΩΡΙΣΗ'!E29,"") | F27: =IF(AND('01_ΚΑΤΑΧΩΡΙΣΗ'!D29="ΝΑΙ",'01_ΚΑΤΑΧΩΡΙΣΗ'!E29="ΝΑΙ",'01_ΚΑΤΑΧΩΡΙΣΗ'!C29<>""),'01_ΚΑΤΑΧΩΡΙΣΗ'!F29,"")
A28: =IF(AND('01_ΚΑΤΑΧΩΡΙΣΗ'!D30="ΝΑΙ",'01_ΚΑΤΑΧΩΡΙΣΗ'!C30<>""),'01_ΚΑΤΑΧΩΡΙΣΗ'!A30,"") | B28: =IF(AND('01_ΚΑΤΑΧΩΡΙΣΗ'!D30="ΝΑΙ",'01_ΚΑΤΑΧΩΡΙΣΗ'!C30<>""),'01_ΚΑΤΑΧΩΡΙΣΗ'!B30,"") | C28: =IF(AND('01_ΚΑΤΑΧΩΡΙΣΗ'!D30="ΝΑΙ",'01_ΚΑΤΑΧΩΡΙΣΗ'!C30<>""),'01_ΚΑΤΑΧΩΡΙΣΗ'!C30,"") | D28: =IF(AND('01_ΚΑΤΑΧΩΡΙΣΗ'!D30="ΝΑΙ",'01_ΚΑΤΑΧΩΡΙΣΗ'!C30<>""),'01_ΚΑΤΑΧΩΡΙΣΗ'!D30,"") | E28: =IF(AND('01_ΚΑΤΑΧΩΡΙΣΗ'!D30="ΝΑΙ",'01_ΚΑΤΑΧΩΡΙΣΗ'!C30<>""),'01_ΚΑΤΑΧΩΡΙΣΗ'!E30,"") | F28: =IF(AND('01_ΚΑΤΑΧΩΡΙΣΗ'!D30="ΝΑΙ",'01_ΚΑΤΑΧΩΡΙΣΗ'!E30="ΝΑΙ",'01_ΚΑΤΑΧΩΡΙΣΗ'!C30<>""),'01_ΚΑΤΑΧΩΡΙΣΗ'!F30,"")
... A108: =IF(AND('01_ΚΑΤΑΧΩΡΙΣΗ'!D110="ΝΑΙ",'01_ΚΑΤΑΧΩΡΙΣΗ'!C110<>""),'01_ΚΑΤΑΧΩΡΙΣΗ'!A110,"") | B108: =IF(AND('01_ΚΑΤΑΧΩΡΙΣΗ'!D110="ΝΑΙ",'01_ΚΑΤΑΧΩΡΙΣΗ'!C110<>""),'01_ΚΑΤΑΧΩΡΙΣΗ'!B110,"") | C108: =IF(AND('01_ΚΑΤΑΧΩΡΙΣΗ'!D110="ΝΑΙ",'01_ΚΑΤΑΧΩΡΙΣΗ'!C110<>""),'01_ΚΑΤΑΧΩΡΙΣΗ'!C110,"") | D108: =IF(AND('01_ΚΑΤΑΧΩΡΙΣΗ'!D110="ΝΑΙ",'01_ΚΑΤΑΧΩΡΙΣΗ'!C110<>""),'01_ΚΑΤΑΧΩΡΙΣΗ'!D110,"") | E108: =IF(AND('01_ΚΑΤΑΧΩΡΙΣΗ'!D110="ΝΑΙ",'01_ΚΑΤΑΧΩΡΙΣΗ'!C110<>""),'01_ΚΑΤΑΧΩΡΙΣΗ'!E110,"") | F108: =IF(AND('01_ΚΑΤΑΧΩΡΙΣΗ'!D110="ΝΑΙ",'01_ΚΑΤΑΧΩΡΙΣΗ'!E110="ΝΑΙ",'01_ΚΑΤΑΧΩΡΙΣΗ'!C110<>""),'01_ΚΑΤΑΧΩΡΙΣΗ'!F110,"")

Sheet ΛΙΣΤΕΣ
A1: Περιφέρεια | B1: Σχολείο | C1: Κωδικός Σχολείου | D1: Τύπος Σχολείου | F1: ΛΕΥΚΩΣΙΑ | G1: ΛΕΜΕΣΟΣ | H1: ΛΑΡΝΑΚΑ | I1: ΠΑΦΟΣ | J1: ΑΜΜΟΧΩΣΤΟΣ | K1: ΤΡΟΟΔΟΣ | M1: Περιφέρεια | N1: Πηγή Dropdown Σχολείων | P1: Πηγή ελέγχου | Q1: Σύνδεσμος
A2: ΛΕΥΚΩΣΙΑ | B2: Β΄ ΠΕΡΙΦΕΡΕΙΑΚΟ ΓΥΜΝΑΣΙΟ ΛΕΥΚΩΣΙΑΣ-ΜΑΛΟΥΝΤΑ | C2: NIC33 | D2: ΓΥΜΝΑΣΙΟ | F2: Β΄ ΠΕΡΙΦΕΡΕΙΑΚΟ ΓΥΜΝΑΣΙΟ ΛΕΥΚΩΣΙΑΣ-ΜΑΛΟΥΝΤΑ | G2: ΑΘΗΝΑΙΔΕΙΟ ΓΥΜΝΑΣΙΟ ΚΑΘΟΛΙΚΗΣ | H2: ΓΥΜΝΑΣΙΟ ΑΘΗΕΝΟΥ | I2: ΓΥΜΝΑΣΙΟ Α' ΑΓΙΟΥ ΘΕΟΔΩΡΟΥ ΠΑΦΟΥ | J2: ΠΕΡΙΦΕΡΕΙΑΚΟ ΓΥΜΝΑΣΙΟ ΞΥΛΟΤΥΜΒΟΥ | K2: ΓΥΜΝΑΣΙΟ ΣΟΛΕΑΣ | M2: ΛΕΥΚΩΣΙΑ | N2: 'ΛΙΣΤΕΣ'!$F$2:$F$25 | P2: ΥΠΑΝ – Εκπαιδευτικές Περιφέρειες 2026–2027 | Q2: https://www.moec.gov.cy/dme/ekpaideftikes_perifereies.html
A3: ΛΕΥΚΩΣΙΑ | B3: ΓΥΜΝΑΣΙΟ ΑΓΙΟΥ ΒΑΣΙΛΕΙΟΥ | C3: NIC41 | D3: ΓΥΜΝΑΣΙΟ | F3: ΓΥΜΝΑΣΙΟ ΑΓΙΟΥ ΒΑΣΙΛΕΙΟΥ | G3: ΓΥΜΝΑΣΙΟ ΑΓΙΑΣ ΦΥΛΑΞΕΩΣ | H3: ΓΥΜΝΑΣΙΟ ΑΡΑΔΙΠΠΟΥ | I3: ΓΥΜΝΑΣΙΟ ΑΓΙΑΣ ΠΑΡΑΣΚΕΥΗΣ ΓΕΡΟΣΚΗΠΟΥ | J3: ΠΕΡΙΦΕΡΕΙΑΚΟ ΓΥΜΝΑΣΙΟ ΞΥΛΟΦΑΓΟΥ | K3: ΑΠΕΗΤΕΙΟ ΓΥΜΝΑΣΙΟ ΑΓΡΟΥ | M3: ΛΕΜΕΣΟΣ | N3: 'ΛΙΣΤΕΣ'!$G$2:$G$19 | P3: ΥΠΑΝ – Κατάλογοι Σχολείων | Q3: https://www.moec.gov.cy/dme/katalogoi_scholeion.html
A4: ΛΕΥΚΩΣΙΑ | B4: ΓΥΜΝΑΣΙΟ ΑΓΙΟΥ ΔΟΜΕΤΙΟΥ | C4: NIC38 | D4: ΓΥΜΝΑΣΙΟ | F4: ΓΥΜΝΑΣΙΟ ΑΓΙΟΥ ΔΟΜΕΤΙΟΥ | G4: ΓΥΜΝΑΣΙΟ ΑΓΙΑΣ ΒΑΡΒΑΡΑΣ ΚΑΤΩ ΠΟΛΕΜΙΔΙΩΝ | H4: ΓΥΜΝΑΣΙΟ "ΒΕΡΓΙΝΑ" ΛΑΡΝΑΚΑΣ | I4: ΓΥΜΝΑΣΙΟ ΑΠΟΣΤΟΛΟΥ ΑΝΔΡΕΑ ΕΜΠΑΣ | J4: ΓΥΜΝΑΣΙΟ ΚΟΚΚΙΝΟΧΩΡΙΩΝ ΠΑΝΟΥ ΙΩΑΝΝΟΥ | K4: ΕΜΠΟΡΙΚΗ ΣΧΟΛΗ ΜΙΤΣΗ ΛΕΜΥΘΟΥ | M4: ΛΑΡΝΑΚΑ | N4: 'ΛΙΣΤΕΣ'!$H$2:$H$12 | P4: ΥΠΑΝ – Τυποποίηση Ονομάτων Δημόσιων Σχολείων | Q4: https://sch.cy/mc/360/el_dimosia_mesi_geniki_typopoiisi.pdf
A5: ΛΕΥΚΩΣΙΑ | B5: ΓΥΜΝΑΣΙΟ ΑΓΙΟΥ ΙΩΑΝΝΟΥ ΤΟΥ ΧΡΥΣΟΣΤΟΜΟΥ | C5: NIC39 | D5: ΓΥΜΝΑΣΙΟ | F5: ΓΥΜΝΑΣΙΟ ΑΓΙΟΥ ΙΩΑΝΝΟΥ ΤΟΥ ΧΡΥΣΟΣΤΟΜΟΥ | G5: ΓΥΜΝΑΣΙΟ ΑΓΙΟΥ ΑΘΑΝΑΣΙΟΥ | H5: ΓΥΜΝΑΣΙΟ ΔΡΟΣΙΑΣ | I5: ΓΥΜΝΑΣΙΟ ΑΠΟΣΤΟΛΟΥ ΠΑΥΛΟΥ | J5: ΓΥΜΝΑΣΙΟ ΠΑΡΑΛΙΜΝΙΟΥ | K5: ΣΧΟΛΗ ΟΜΟΔΟΥΣ - ΓΥΜΝΑΣΙΟ, ΛΥΚΕΙΟ, ΤΕΧΝΙΚΗ ΚΑΙ ΕΠΑΓΓΕΛΜΑΤΙΚΗ ΕΚΠΑΙΔΕΥΣΗ ΚΑΙ ΚΑΤΑΡΤΙΣΗ | M5: ΠΑΦΟΣ | N5: 'ΛΙΣΤΕΣ'!$I$2:$I$10
A6: ΛΕΥΚΩΣΙΑ | B6: ΓΥΜΝΑΣΙΟ ΑΓΙΟΥ ΣΤΥΛΙΑΝΟΥ | C6: NIC40 | D6: ΓΥΜΝΑΣΙΟ | F6: ΓΥΜΝΑΣΙΟ ΑΓΙΟΥ ΣΤΥΛΙΑΝΟΥ | G6: ΓΥΜΝΑΣΙΟ ΑΓΙΟΥ ΑΝΤΩΝΙΟΥ | H6: ΓΥΜΝΑΣΙΟ ΠΕΤΡΑΚΗ ΚΥΠΡΙΑΝΟΥ | I6: ΓΥΜΝΑΣΙΟ ΠΑΝΑΓΙΑΣ ΘΕΟΣΚΕΠΑΣΤΗΣ | J6: ΓΥΜΝΑΣΙΟ - ΛΥΚΕΙΟ ΕΙΡΗΝΗΣ ΚΑΙ ΕΛΕΥΘΕΡΙΑΣ ΔΕΡΥΝΕΙΑΣ - ΣΩΤΗΡΑΣ | M6: ΑΜΜΟΧΩΣΤΟΣ | N6: 'ΛΙΣΤΕΣ'!$J$2:$J$7 | P6: Σημείωση λειτουργικής κατηγοριοποίησης | Q6: Η διαδικασία χρησιμοποιεί 6 λειτουργικές Περιφέρειες (Λευκωσία, Λεμεσός, Λάρνακα, Πάφος, Αμμόχωστος, Τρόοδος). Η κατανομή αυτή διατηρεί την υφιστάμενη επιχειρησιακή αντιστοίχιση του αρχείου και δεν ταυτίζεται πλήρως με τις γεωγραφικές επικεφαλίδες του επίσημου καταλόγου σχολείων.
A7: ΛΕΥΚΩΣΙΑ | B7: ΓΥΜΝΑΣΙΟ ΑΓΛΑΝΤΖΙΑΣ | C7: NIC42 | D7: ΓΥΜΝΑΣΙΟ | F7: ΓΥΜΝΑΣΙΟ ΑΓΛΑΝΤΖΙΑΣ | G7: ΓΥΜΝΑΣΙΟ ΑΓΙΟΥ ΙΩΑΝΝΗ ΚΑΤΩ ΠΟΛΕΜΙΔΙΩΝ | H7: ΓΥΜΝΑΣΙΟ ΦΑΝΕΡΩΜΕΝΗΣ | I7: ΓΥΜΝΑΣΙΟ ΠΟΛΕΩΣ ΧΡΥΣΟΧΟΥΣ | J7: ΓΥΜΝΑΣΙΟ ΡΙΖΟΚΑΡΠΑΣΟΥ | M7: ΤΡΟΟΔΟΣ | N7: 'ΛΙΣΤΕΣ'!$K$2:$K$5 | P7: Διατηρούμενες λειτουργικές μετακινήσεις | Q7: Γυμνάσιο Σολέας + Απεήτειο Γυμνάσιο Αγρού + Εμπορική Σχολή Μιτσή Λεμύθου + Σχολή Ομόδους → ΤΡΟΟΔΟΣ. Περιφερειακά Γυμνάσια Ξυλοτύμβου και Ξυλοφάγου → ΑΜΜΟΧΩΣΤΟΣ.
A8: ΛΕΥΚΩΣΙΑ | B8: ΓΥΜΝΑΣΙΟ ΑΚΡΟΠΟΛΕΩΣ | C8: NIC43 | D8: ΓΥΜΝΑΣΙΟ | F8: ΓΥΜΝΑΣΙΟ ΑΚΡΟΠΟΛΕΩΣ | G8: ΓΥΜΝΑΣΙΟ ΑΓΙΟΥ ΝΕΟΦΥΤΟΥ ΚΑΤΩ ΠΟΛΕΜΙΔΙΩΝ | H8: ΕΥΡΥΒΙΑΔΕΙΟ ΓΥΜΝΑΣΙΟ | I8: ΝΙΚΟΛΑΪΔΕΙΟ ΓΥΜΝΑΣΙΟ | P8: Κάλυψη μητρώου | Q8: 72 δημόσια σχολεία με γυμνασιακό κύκλο: 62 Γυμνάσια + 10 Εξατάξια / γυμνασιακός κύκλος.
A9: ΛΕΥΚΩΣΙΑ | B9: ΓΥΜΝΑΣΙΟ ΑΝΘΟΥΠΟΛΕΩΣ | C9: NIC44 | D9: ΓΥΜΝΑΣΙΟ | F9: ΓΥΜΝΑΣΙΟ ΑΝΘΟΥΠΟΛΕΩΣ | G9: ΓΥΜΝΑΣΙΟ ΕΠΙΣΚΟΠΗΣ - «ΑΓΙΟΣ ΕΡΜΟΓΕΝΗΣ» | H9: ΠΕΡΙΦΕΡΕΙΑΚΟ ΓΥΜΝΑΣΙΟ ΚΙΤΙΟΥ | I9: ΓΥΜΝΑΣΙΟ ΚΑΤΩ ΠΥΡΓΟΥ
A10: ΛΕΥΚΩΣΙΑ | B10: ΓΥΜΝΑΣΙΟ ΑΡΧΑΓΓΕΛΟΥ ΛΑΚΑΤΑΜΕΙΑΣ | C10: NIC45 | D10: ΓΥΜΝΑΣΙΟ | F10: ΓΥΜΝΑΣΙΟ ΑΡΧΑΓΓΕΛΟΥ ΛΑΚΑΤΑΜΕΙΑΣ | G10: ΓΥΜΝΑΣΙΟ ΖΑΚΑΚΙΟΥ | H10: ΠΕΡΙΦΕΡΕΙΑΚΟ ΓΥΜΝΑΣΙΟ ΛΙΒΑΔΙΩΝ | I10: ΓΥΜΝΑΣΙΟ ΠΟΛΕΜΙΟΥ
A11: ΛΕΥΚΩΣΙΑ | B11: ΓΥΜΝΑΣΙΟ ΑΡΧΙΕΠΙΣΚΟΠΟΥ ΜΑΚΑΡΙΟΥ Γ΄ - ΠΛΑΤΥ | C11: NIC46 | D11: ΓΥΜΝΑΣΙΟ | F11: ΓΥΜΝΑΣΙΟ ΑΡΧΙΕΠΙΣΚΟΠΟΥ ΜΑΚΑΡΙΟΥ Γ΄ - ΠΛΑΤΥ | G11: ΓΥΜΝΑΣΙΟ ΚΑΛΟΓΕΡΟΠΟΥΛΟΥ | H11: ΠΕΡΙΦΕΡΕΙΑΚΟ ΓΥΜΝΑΣΙΟ ΚΑΙ ΛΥΚΕΙΟ ΛΕΥΚΑΡΩΝ
A12: ΛΕΥΚΩΣΙΑ | B12: ΓΥΜΝΑΣΙΟ ΓΕΡΙΟΥ | C12: NIC49 | D12: ΓΥΜΝΑΣΙΟ | F12: ΓΥΜΝΑΣΙΟ ΓΕΡΙΟΥ | G12: ΓΥΜΝΑΣΙΟ ΛΙΝΟΠΕΤΡΑΣ | H12: ΛΥΚΕΙΟ ΑΓΙΟΥ ΓΕΩΡΓΙΟΥ
A13: ΛΕΥΚΩΣΙΑ | B13: ΓΥΜΝΑΣΙΟ ΔΙΑΝΕΛΛΟΥ ΚΑΙ ΘΕΟΔΟΤΟΥ | C13: NIC47 | D13: ΓΥΜΝΑΣΙΟ | F13: ΓΥΜΝΑΣΙΟ ΔΙΑΝΕΛΛΟΥ ΚΑΙ ΘΕΟΔΟΤΟΥ | G13: ΓΥΜΝΑΣΙΟ ΝΕΑΠΟΛΗΣ
A14: ΛΕΥΚΩΣΙΑ | B14: ΓΥΜΝΑΣΙΟ ΕΓΚΩΜΗΣ - ΚΥΡΙΑΚΟΣ ΝΕΟΚΛΕΟΥΣ | C14: NIC48 | D14: ΓΥΜΝΑΣΙΟ | F14: ΓΥΜΝΑΣΙΟ ΕΓΚΩΜΗΣ - ΚΥΡΙΑΚΟΣ ΝΕΟΚΛΕΟΥΣ | G14: ΓΥΜΝΑΣΙΟ ΠΟΛΕΜΙΔΙΩΝ
A15: ΛΕΥΚΩΣΙΑ | B15: ΓΥΜΝΑΣΙΟ ΚΩΝΣΤΑΝΤΙΝΟΥΠΟΛΕΩΣ | C15: NIC50 | D15: ΓΥΜΝΑΣΙΟ | F15: ΓΥΜΝΑΣΙΟ ΚΩΝΣΤΑΝΤΙΝΟΥΠΟΛΕΩΣ | G15: ΓΥΜΝΑΣΙΟ ΥΨΩΝΑ
A16: ΛΕΥΚΩΣΙΑ | B16: ΓΥΜΝΑΣΙΟ ΛΑΤΣΙΩΝ | C16: NIC51 | D16: ΓΥΜΝΑΣΙΟ | F16: ΓΥΜΝΑΣΙΟ ΛΑΤΣΙΩΝ | G16: ΘΕΚΛΕΙΟ ΓΥΜΝΑΣΙΟ
A17: ΛΕΥΚΩΣΙΑ | B17: ΓΥΜΝΑΣΙΟ ΜΑΚΕΔΟΝΙΤΙΣΣΑΣ | C17: NIC52 | D17: ΓΥΜΝΑΣΙΟ | F17: ΓΥΜΝΑΣΙΟ ΜΑΚΕΔΟΝΙΤΙΣΣΑΣ | G17: ΛΑΝΙΤΕΙΟ ΓΥΜΝΑΣΙΟ
A18: ΛΕΥΚΩΣΙΑ | B18: ΓΥΜΝΑΣΙΟ ΝΑΡΕΚ | C18: NIC53 | D18: ΓΥΜΝΑΣΙΟ | F18: ΓΥΜΝΑΣΙΟ ΝΑΡΕΚ | G18: ΠΕΡΙΦΕΡΕΙΑΚΟ ΓΥΜΝΑΣΙΟ ΑΓΙΟΥ ΜΑΜΑΝΤΟΣ ΤΡΑΧΩΝΙΟΥ
A19: ΛΕΥΚΩΣΙΑ | B19: ΓΥΜΝΑΣΙΟ ΠΑΛΟΥΡΙΩΤΙΣΣΑΣ | C19: NIC54 | D19: ΓΥΜΝΑΣΙΟ | F19: ΓΥΜΝΑΣΙΟ ΠΑΛΟΥΡΙΩΤΙΣΣΑΣ | G19: ΤΣΙΡΕΙΟ ΓΥΜΝΑΣΙΟ
A20: ΛΕΥΚΩΣΙΑ | B20: ΓΥΜΝΑΣΙΟ ΣΤΑΥΡΟΥ | C20: NIC55 | D20: ΓΥΜΝΑΣΙΟ | F20: ΓΥΜΝΑΣΙΟ ΣΤΑΥΡΟΥ
A21: ΛΕΥΚΩΣΙΑ | B21: ΠΕΡΙΦΕΡΕΙΑΚΟ ΓΥΜΝΑΣΙΟ ΑΓΙΑΣ ΒΑΡΒΑΡΑΣ | C21: NIC61 | D21: ΓΥΜΝΑΣΙΟ | F21: ΠΕΡΙΦΕΡΕΙΑΚΟ ΓΥΜΝΑΣΙΟ ΑΓΙΑΣ ΒΑΡΒΑΡΑΣ
A22: ΛΕΥΚΩΣΙΑ | B22: ΠΕΡΙΦΕΡΕΙΑΚΟ ΓΥΜΝΑΣΙΟ ΑΚΑΚΙΟΥ | C22: NIC62 | D22: ΓΥΜΝΑΣΙΟ | F22: ΠΕΡΙΦΕΡΕΙΑΚΟ ΓΥΜΝΑΣΙΟ ΑΚΑΚΙΟΥ
A23: ΛΕΥΚΩΣΙΑ | B23: ΠΕΡΙΦΕΡΕΙΑΚΟ ΓΥΜΝΑΣΙΟ ΚΟΚΚΙΝΟΤΡΙΜΙΘΙΑΣ | C23: NIC63 | D23: ΓΥΜΝΑΣΙΟ | F23: ΠΕΡΙΦΕΡΕΙΑΚΟ ΓΥΜΝΑΣΙΟ ΚΟΚΚΙΝΟΤΡΙΜΙΘΙΑΣ
A24: ΛΕΥΚΩΣΙΑ | B24: ΠΕΡΙΦΕΡΕΙΑΚΟ ΓΥΜΝΑΣΙΟ ΠΕΡΑ ΧΩΡΙΟΥ - ΝΗΣΟΥ | C24: NIC64 | D24: ΓΥΜΝΑΣΙΟ | F24: ΠΕΡΙΦΕΡΕΙΑΚΟ ΓΥΜΝΑΣΙΟ ΠΕΡΑ ΧΩΡΙΟΥ - ΝΗΣΟΥ
A25: ΛΕΥΚΩΣΙΑ | B25: ΠΑΓΚΥΠΡΙΟΝ ΓΥΜΝΑΣΙΟΝ | C25: NIC58 | D25: ΕΞΑΤΑΞΙΟ / ΓΥΜΝΑΣΙΑΚΟΣ ΚΥΚΛΟΣ | F25: ΠΑΓΚΥΠΡΙΟΝ ΓΥΜΝΑΣΙΟΝ
A26: ΛΕΜΕΣΟΣ | B26: ΑΘΗΝΑΙΔΕΙΟ ΓΥΜΝΑΣΙΟ ΚΑΘΟΛΙΚΗΣ | C26: LEM42 | D26: ΓΥΜΝΑΣΙΟ
A27: ΛΕΜΕΣΟΣ | B27: ΓΥΜΝΑΣΙΟ ΑΓΙΑΣ ΦΥΛΑΞΕΩΣ | C27: LEM34 | D27: ΓΥΜΝΑΣΙΟ
A28: ΛΕΜΕΣΟΣ | B28: ΓΥΜΝΑΣΙΟ ΑΓΙΑΣ ΒΑΡΒΑΡΑΣ ΚΑΤΩ ΠΟΛΕΜΙΔΙΩΝ | C28: LEM35 | D28: ΓΥΜΝΑΣΙΟ
A29: ΛΕΜΕΣΟΣ | B29: ΓΥΜΝΑΣΙΟ ΑΓΙΟΥ ΑΘΑΝΑΣΙΟΥ | C29: LEM37 | D29: ΓΥΜΝΑΣΙΟ
A30: ΛΕΜΕΣΟΣ | B30: ΓΥΜΝΑΣΙΟ ΑΓΙΟΥ ΑΝΤΩΝΙΟΥ | C30: LEM36 | D30: ΓΥΜΝΑΣΙΟ
A31: ΛΕΜΕΣΟΣ | B31: ΓΥΜΝΑΣΙΟ ΑΓΙΟΥ ΙΩΑΝΝΗ ΚΑΤΩ ΠΟΛΕΜΙΔΙΩΝ | C31: LEM38 | D31: ΓΥΜΝΑΣΙΟ
A32: ΛΕΜΕΣΟΣ | B32: ΓΥΜΝΑΣΙΟ ΑΓΙΟΥ ΝΕΟΦΥΤΟΥ ΚΑΤΩ ΠΟΛΕΜΙΔΙΩΝ | C32: LEM39 | D32: ΓΥΜΝΑΣΙΟ
A33: ΛΕΜΕΣΟΣ | B33: ΓΥΜΝΑΣΙΟ ΕΠΙΣΚΟΠΗΣ - «ΑΓΙΟΣ ΕΡΜΟΓΕΝΗΣ» | C33: LEM40 | D33: ΓΥΜΝΑΣΙΟ
A34: ΛΕΜΕΣΟΣ | B34: ΓΥΜΝΑΣΙΟ ΖΑΚΑΚΙΟΥ | C34: LEM47 | D34: ΓΥΜΝΑΣΙΟ
A35: ΛΕΜΕΣΟΣ | B35: ΓΥΜΝΑΣΙΟ ΚΑΛΟΓΕΡΟΠΟΥΛΟΥ | C35: LEM41 | D35: ΓΥΜΝΑΣΙΟ
A36: ΛΕΜΕΣΟΣ | B36: ΓΥΜΝΑΣΙΟ ΛΙΝΟΠΕΤΡΑΣ | C36: LEM43 | D36: ΓΥΜΝΑΣΙΟ
A37: ΛΕΜΕΣΟΣ | B37: ΓΥΜΝΑΣΙΟ ΝΕΑΠΟΛΗΣ | C37: LEM44 | D37: ΓΥΜΝΑΣΙΟ
... A73: ΤΡΟΟΔΟΣ | B73: ΣΧΟΛΗ ΟΜΟΔΟΥΣ - ΓΥΜΝΑΣΙΟ, ΛΥΚΕΙΟ, ΤΕΧΝΙΚΗ ΚΑΙ ΕΠΑΓΓΕΛΜΑΤΙΚΗ ΕΚΠΑΙΔΕΥΣΗ ΚΑΙ ΚΑΤΑΡΤΙΣΗ | C73: TRO08 | D73: ΕΞΑΤΑΞΙΟ / ΓΥΜΝΑΣΙΑΚΟΣ ΚΥΚΛΟΣ
